BEGIN:VCALENDAR
VERSION:2.0
PRODID:-//Sheryl Faye - ECPv6.15.20//NONSGML v1.0//EN
CALSCALE:GREGORIAN
METHOD:PUBLISH
X-WR-CALNAME:Sheryl Faye
X-ORIGINAL-URL:https://sherylfaye.com
X-WR-CALDESC:Events for Sheryl Faye
REFRESH-INTERVAL;VALUE=DURATION:PT1H
X-Robots-Tag:noindex
X-PUBLISHED-TTL:PT1H
BEGIN:VTIMEZONE
TZID:America/New_York
BEGIN:DAYLIGHT
TZOFFSETFROM:-0500
TZOFFSETTO:-0400
TZNAME:EDT
DTSTART:20250309T070000
END:DAYLIGHT
BEGIN:STANDARD
TZOFFSETFROM:-0400
TZOFFSETTO:-0500
TZNAME:EST
DTSTART:20251102T060000
END:STANDARD
BEGIN:DAYLIGHT
TZOFFSETFROM:-0500
TZOFFSETTO:-0400
TZNAME:EDT
DTSTART:20260308T070000
END:DAYLIGHT
BEGIN:STANDARD
TZOFFSETFROM:-0400
TZOFFSETTO:-0500
TZNAME:EST
DTSTART:20261101T060000
END:STANDARD
BEGIN:DAYLIGHT
TZOFFSETFROM:-0500
TZOFFSETTO:-0400
TZNAME:EDT
DTSTART:20270314T070000
END:DAYLIGHT
BEGIN:STANDARD
TZOFFSETFROM:-0400
TZOFFSETTO:-0500
TZNAME:EST
DTSTART:20271107T060000
END:STANDARD
END:VTIMEZONE
BEGIN:VEVENT
DTSTART;TZID=America/New_York:20260421T130000
DTEND;TZID=America/New_York:20260421T140000
DTSTAMP:20260420T051740
CREATED:20260414T165830Z
LAST-MODIFIED:20260414T165830Z
UID:3998-1776776400-1776780000@sherylfaye.com
SUMMARY:Queen Elizabeth II is coming to The Boxford Council on Aging\, MA
DESCRIPTION:Come see “Her Majesty” on the Queen’s actual Birthday! \nApril 21\, 2026 at 1:00PM at The Boxford COA. The event is free\, sponsored by the Boxford Cultural Council.  We ask that you sign up by calling 978-887-3591 (The 10 Elm Center). \n  \nA one-woman show like you have never seen before!
URL:https://sherylfaye.com/event/queen-elizabeth-ii-is-coming-to-the-boxford-council-on-aging-ma/
CATEGORIES:Queen Elizabeth II
END:VEVENT
BEGIN:VEVENT
DTSTART;TZID=America/New_York:20260421T183000
DTEND;TZID=America/New_York:20260421T193000
DTSTAMP:20260420T051740
CREATED:20260311T105818Z
LAST-MODIFIED:20260311T105818Z
UID:3969-1776796200-1776799800@sherylfaye.com
SUMMARY:Helen Keller is coming to The Tewksbury Library\, MA
DESCRIPTION:IN PERSON: One-Woman Play: Helen Keller\, Champion Of The Disabled\nTUESDAY\, APRIL 21st @ 6:30—7:30 PMMeeting RoomTewksbury Public Library300 Chandler Street\, Tewksbury\, MA\, 01876\n\n\nActress Sheryl Faye will perform her one-woman show\, “Hellen Keller: Champion of the Disabled.” The show is written from Helen’s mind eye. The story is told on a taped voice over as Helen reenacts her full life from her childhood through her discovery of language when she was seven years old to the writing of her twelve books. She will show the audience how she speaks and reads in Braille\, and her story continues through her graduation from college. This unique\, special performance will help us to understand and accept the different ways people do the same things and inspire us to be the best we can be with the talents we possess. Sheryl Faye\, who received a BFA in Acting from Emerson\, currently stars in eleven one-woman shows that tour to different schools\, libraries and senior centers across the country. She previously performed at the Tewksbury Library as Amelia Earhart\, Eleanor Roosevelt\, Susan B. Anthony\, and Clara Barton. \nRegister below. Sponsored by the Friends of the Library and Tewksbury Lions Club. \nhttps://tewksburypl.assabetinteractive.com/calendar/in-person-one-woman-play-helen-keller-champion-of-the-disabled/ \nACCESSIBILITY NOTE: The Tewksbury Public Library does not discriminate on the basis of disability and is committed to providing a reasonable modification to participate in our events\, services or documentation. Contact Director Diane Giarrusso at 978-640-4490 or dgiarrusso@tewksbury-ma.gov at least two weeks before an event to arrange for modification\, or at any time you need accessible documents.
URL:https://sherylfaye.com/event/helen-keller-is-coming-to-the-tewksbury-library-ma/
CATEGORIES:Helen Keller
END:VEVENT
BEGIN:VEVENT
DTSTART;TZID=America/New_York:20260423T190000
DTEND;TZID=America/New_York:20260423T200000
DTSTAMP:20260420T051740
CREATED:20260413T185535Z
LAST-MODIFIED:20260413T185535Z
UID:3995-1776970800-1776974400@sherylfaye.com
SUMMARY:Abigail Adams is coming to The Reading Public Library\, MA
DESCRIPTION:Abigail Adams: Liberty & Legacy — Live Performance by Sheryl Faye\nTHURSDAY\, APRIL 237:00—8:00 PMActivity RoomFlint Memorial Library147 Park Street\, North Reading\, MA\, 01864\n\n\nSheryl Faye is returning to the Flint Memorial Library to do a one-woman show as Abigail Adams in honor of 250th anniversary of the signing of the Declaration of Independence! You may remember her in previous years performing as Ruth Bader Ginsburg\, and Anne Frank. \nShe is sometimes considered to have been a founder of the United States and is now designated as the first Second Lady and second First Lady of The United States. Join us to hear her story from her childhood to adult years and the legacy she left behind! \nAbigail Adams’s life is one of the most documented of the first ladies: she is remembered for the many letters she wrote to her husband while he stayed in Philadelphia\, Pennsylvania\, during the Continental Congresses. John frequently sought the advice of Abigail on many matters\, and their letters are filled with intellectual discussions on government and politics. In one of her more famous letters she implores her husband and his colleagues\, all of whom were male\, to\, “…remember the ladies…If particular care and attention is not paid to the Ladies we are determined to foment a Rebellion\, and will not hold ourselves bound by any Laws in which we have no voice\, or Representation.” Her letters also serve as eyewitness accounts of the American Revolutionary War home front. \nThis program is generously sponsored by the Friends of the Flint Memorial Library and the North Reading Historical & Antiquarian Society. \nTo Register click: https://flintmemoriallibrary.assabetinteractive.com/calendar/abigail-adams-live-performance-by-sheryl-faye/ \n\n 
URL:https://sherylfaye.com/event/abigail-adams-is-coming-to-the-reading-public-library-ma/
CATEGORIES:Abigail Adams
END:VEVENT
BEGIN:VEVENT
DTSTART;TZID=America/New_York:20260428T183000
DTEND;TZID=America/New_York:20260428T193000
DTSTAMP:20260420T051740
CREATED:20260414T173433Z
LAST-MODIFIED:20260414T173433Z
UID:4001-1777401000-1777404600@sherylfaye.com
SUMMARY:Abigail Adams is coming to The Merrimac Public Library\, MA
DESCRIPTION: 
URL:https://sherylfaye.com/event/abigail-adams-is-coming-to-the-merrimac-public-library-ma/
CATEGORIES:Abigail Adams
END:VEVENT
BEGIN:VEVENT
DTSTART;TZID=America/New_York:20260502T090000
DTEND;TZID=America/New_York:20260502T110000
DTSTAMP:20260420T051740
CREATED:20260211T212033Z
LAST-MODIFIED:20260211T212125Z
UID:3935-1777712400-1777719600@sherylfaye.com
SUMMARY:Abigail Adams is coming to Georgetown MA
DESCRIPTION:Come see Sheryl Faye’s newest production to celebrate America 250 at Goats to Go\, \n\n\n\n\n\n\n\n\n\n\n\n\n\n\n\n\n\n\n\n\n\n201 Pond St\, Georgetown\, MA 01833 \n\n\n\n\n\n\n\n\n\n\n\n\n\n\n\n\n\n\n\n\n\nA special fundraising event to benefit The Georgetown Historical Society. \n  \nFor more information and to purchase tickets click here: \nCreative Experiences \n \n 
URL:https://sherylfaye.com/event/abigail-adams-is-coming-to-georgetown-ma/
CATEGORIES:Abigail Adams
END:VEVENT
BEGIN:VEVENT
DTSTART;TZID=America/New_York:20260512T183000
DTEND;TZID=America/New_York:20260512T193000
DTSTAMP:20260420T051740
CREATED:20260307T011334Z
LAST-MODIFIED:20260307T011334Z
UID:3965-1778610600-1778614200@sherylfaye.com
SUMMARY:Abigail Adams is coming to Red Bank New Jersey
DESCRIPTION:
URL:https://sherylfaye.com/event/abigail-adams-is-coming-to-red-bank-new-jersey/
CATEGORIES:Abigail Adams
END:VEVENT
BEGIN:VEVENT
DTSTART;TZID=America/New_York:20260514T130000
DTEND;TZID=America/New_York:20260514T140000
DTSTAMP:20260420T051740
CREATED:20260319T103037Z
LAST-MODIFIED:20260319T103037Z
UID:3976-1778763600-1778767200@sherylfaye.com
SUMMARY:Susan B Anthony is coming to Turners Fall\, MA
DESCRIPTION:Come see Susan B Anthony on May 14\, 2026 @ 1:00PM \nThe Performance will be held at: 62 Fifth St.\, Turners Falls MA  01376; telephone 413-863-9357; the presentation is free and open to the public.
URL:https://sherylfaye.com/event/susan-b-anthony-is-coming-to-turners-fall-ma/
CATEGORIES:Susan B. Anthony
END:VEVENT
BEGIN:VEVENT
DTSTART;TZID=America/New_York:20260614T140000
DTEND;TZID=America/New_York:20260614T150000
DTSTAMP:20260420T051740
CREATED:20260329T103148Z
LAST-MODIFIED:20260329T103148Z
UID:3984-1781445600-1781449200@sherylfaye.com
SUMMARY:Abigail Adams is coming to The Scituate Historical Society
DESCRIPTION:Come see “Liberty & Legacy” on June 14th at 2pm! The performance will be held at G.A.R. Hall\, 353 Country Way\, Scituate\, MA\, tickets are $20.00. To purchase click here: \n  \nhttps://scituatehistoricalsociety.org/product/abigail-adams-liberty-and-legacy-june-14-at-2-pm/
URL:https://sherylfaye.com/event/abigail-adams-is-coming-to-the-scituate-historical-society/
CATEGORIES:Abigail Adams
END:VEVENT
BEGIN:VEVENT
DTSTART;TZID=America/New_York:20260620T110000
DTEND;TZID=America/New_York:20260620T120000
DTSTAMP:20260420T051740
CREATED:20260416T093044Z
LAST-MODIFIED:20260416T093044Z
UID:4005-1781953200-1781956800@sherylfaye.com
SUMMARY:Abigail Adams is coming to Exeter\, NH
DESCRIPTION:10 Front Street\, Exeter\, NH\, United States\, 03833
URL:https://sherylfaye.com/event/abigail-adams-is-coming-to-exeter-nh/
CATEGORIES:Abigail Adams
END:VEVENT
BEGIN:VEVENT
DTSTART;TZID=America/New_York:20260624T190000
DTEND;TZID=America/New_York:20260624T200000
DTSTAMP:20260420T051740
CREATED:20260219T141750Z
LAST-MODIFIED:20260219T141750Z
UID:3948-1782327600-1782331200@sherylfaye.com
SUMMARY:Abigail Adams is coming to Newbury Public Library\, NH
DESCRIPTION:June 24th at 7pm at the Newbury Center Meeting House\, 945 NH Route 103\, Newbury NH 03255\, call (603)763-5803 for more information. Free and open to all! No registration needed. \n  \nCome see Sheryl Faye Presents newest show to celebrate America 250!
URL:https://sherylfaye.com/event/abigail-adams-is-coming-to-newbury-public-library-nh/
CATEGORIES:Abigail Adams
END:VEVENT
BEGIN:VEVENT
DTSTART;TZID=America/New_York:20260821T123000
DTEND;TZID=America/New_York:20260821T133000
DTSTAMP:20260420T051740
CREATED:20260209T212000Z
LAST-MODIFIED:20260209T212000Z
UID:3922-1787315400-1787319000@sherylfaye.com
SUMMARY:Abigail Adams is coming to The Saugus Council on Aging
DESCRIPTION:This is Sheryl Faye’s newest show\, “Liberty & Legacy” to celebrate America 250! You must register and the fee is $4.00. Contact the Council on Aging for more information. \nSaugus Senior Center \n466 Central Street \nSaugus\, MA 01906 \n781-231-4178
URL:https://sherylfaye.com/event/abigail-adams-is-coming-to-the-saugus-council-on-aging/
CATEGORIES:Abigail Adams
END:VEVENT
BEGIN:VEVENT
DTSTART;TZID=America/New_York:20260924T110000
DTEND;TZID=America/New_York:20260924T120000
DTSTAMP:20260420T051740
CREATED:20250915T135025Z
LAST-MODIFIED:20250915T135025Z
UID:3813-1790247600-1790251200@sherylfaye.com
SUMMARY:Abigail Adams is coming to The Paxton COA
DESCRIPTION:Sheryl Faye\n  \nThis all new version of Abigail Adams\, Liberty & Legacy to celebrate America 250 will be at The Paxton Council on Aging\, \n17 West St\, Paxton\, MA 01612 \n  \nSeptember 24\, 2026!!! Free to the public!
URL:https://sherylfaye.com/event/abigail-adams-is-coming-to-the-paxton-coa/
CATEGORIES:Abigail Adams
END:VEVENT
BEGIN:VEVENT
DTSTART;TZID=America/New_York:20260927T150000
DTEND;TZID=America/New_York:20260927T160000
DTSTAMP:20260420T051740
CREATED:20260304T001934Z
LAST-MODIFIED:20260304T001934Z
UID:3960-1790521200-1790524800@sherylfaye.com
SUMMARY:Ruth Bader Ginsburg is coming to South Hadley MA
DESCRIPTION:September 27\, 2026\, Chapter AG PEO will host Ruth Bader Ginsburg presented by Sheryl Faye\, a one woman show called\, “I Dissent”\nLocation: Center Church\, 1 Church Street\, South Hadley\, MA\nTime: 3:00 PM\nTickets will be available in the summer. TBA\nAll proceeds will go toward PEO scholarships for women.
URL:https://sherylfaye.com/event/ruth-bader-ginsburg-is-coming-to-south-hadley-ma/
CATEGORIES:Ruth Bader Ginsburg
END:VEVENT
BEGIN:VEVENT
DTSTART;TZID=America/New_York:20261026T110000
DTEND;TZID=America/New_York:20261026T120000
DTSTAMP:20260420T051740
CREATED:20260410T100254Z
LAST-MODIFIED:20260410T100254Z
UID:3992-1793012400-1793016000@sherylfaye.com
SUMMARY:Abigail Adams is coming to The Dover COA\, Dover\, MA
DESCRIPTION:Monday\, October 26\, 11:00am-12:00pm\nAbigail Adams is coming to Dover Council on Aging\nCome see Sheryl Faye’s newest show\, “Liberty & Legacy” to celebrate America’s 250!\nThe cost is $5 per person\, payable at the door.\nCaryl Community Center\, 4 Springdale Ave\, Dover\, MA 02030\nEmail coa@doverma.gov to sign up!
URL:https://sherylfaye.com/event/abigail-adams-is-coming-to-the-dover-coa-dover-ma/
CATEGORIES:Abigail Adams
END:VEVENT
BEGIN:VEVENT
DTSTART;TZID=America/New_York:20261115T140000
DTEND;TZID=America/New_York:20261115T150000
DTSTAMP:20260420T051740
CREATED:20260207T175544Z
LAST-MODIFIED:20260207T175544Z
UID:3914-1794751200-1794754800@sherylfaye.com
SUMMARY:Vernon Historical Society\, CT Abigail Adams
DESCRIPTION:Come see Sheryl Faye’s newest show\, “Liberty & Legacy” \nCaptain Noah Grant Chapter\, Tolland\, Connecticut\, Daughters of the American Revolution (DAR)\nVenue: Vernon Historical Society\nAddress: 734 Hartford Turnpike\, Vernon\, CT 06066\nDate: November 15\, 2026\nTime: 2:00pm\npeople do not need to register and there is no fee. This is Captain Noah Grant Chapter’s gift to the community.
URL:https://sherylfaye.com/event/vernon-historical-society-ct-abigail-adams/
CATEGORIES:Abigail Adams
END:VEVENT
END:VCALENDAR