BEGIN:VCALENDAR
VERSION:2.0
PRODID:-//Sheryl Faye - ECPv6.15.20//NONSGML v1.0//EN
CALSCALE:GREGORIAN
METHOD:PUBLISH
X-ORIGINAL-URL:https://sherylfaye.com
X-WR-CALDESC:Events for Sheryl Faye
REFRESH-INTERVAL;VALUE=DURATION:PT1H
X-Robots-Tag:noindex
X-PUBLISHED-TTL:PT1H
BEGIN:VTIMEZONE
TZID:America/New_York
BEGIN:DAYLIGHT
TZOFFSETFROM:-0500
TZOFFSETTO:-0400
TZNAME:EDT
DTSTART:20250309T070000
END:DAYLIGHT
BEGIN:STANDARD
TZOFFSETFROM:-0400
TZOFFSETTO:-0500
TZNAME:EST
DTSTART:20251102T060000
END:STANDARD
BEGIN:DAYLIGHT
TZOFFSETFROM:-0500
TZOFFSETTO:-0400
TZNAME:EDT
DTSTART:20260308T070000
END:DAYLIGHT
BEGIN:STANDARD
TZOFFSETFROM:-0400
TZOFFSETTO:-0500
TZNAME:EST
DTSTART:20261101T060000
END:STANDARD
BEGIN:DAYLIGHT
TZOFFSETFROM:-0500
TZOFFSETTO:-0400
TZNAME:EDT
DTSTART:20270314T070000
END:DAYLIGHT
BEGIN:STANDARD
TZOFFSETFROM:-0400
TZOFFSETTO:-0500
TZNAME:EST
DTSTART:20271107T060000
END:STANDARD
END:VTIMEZONE
BEGIN:VEVENT
DTSTART;TZID=America/New_York:20260421T130000
DTEND;TZID=America/New_York:20260421T140000
DTSTAMP:20260422T081328
CREATED:20260414T165830Z
LAST-MODIFIED:20260414T165830Z
UID:3998-1776776400-1776780000@sherylfaye.com
SUMMARY:Queen Elizabeth II is coming to The Boxford Council on Aging\, MA
DESCRIPTION:Come see “Her Majesty” on the Queen’s actual Birthday! \nApril 21\, 2026 at 1:00PM at The Boxford COA. The event is free\, sponsored by the Boxford Cultural Council.  We ask that you sign up by calling 978-887-3591 (The 10 Elm Center). \n  \nA one-woman show like you have never seen before!
URL:https://sherylfaye.com/event/queen-elizabeth-ii-is-coming-to-the-boxford-council-on-aging-ma/
CATEGORIES:Queen Elizabeth II
END:VEVENT
BEGIN:VEVENT
DTSTART;TZID=America/New_York:20260416T143000
DTEND;TZID=America/New_York:20260416T153000
DTSTAMP:20260422T081328
CREATED:20260220T111829Z
LAST-MODIFIED:20260220T111829Z
UID:3950-1776349800-1776353400@sherylfaye.com
SUMMARY:Join Queen Elizabeth II for tea at The Center\, Duxbury MA
DESCRIPTION:
URL:https://sherylfaye.com/event/join-queen-elizabeth-ii-for-tea-at-the-center-duxbury-ma/
CATEGORIES:Queen Elizabeth II
END:VEVENT
END:VCALENDAR