BEGIN:VCALENDAR
VERSION:2.0
PRODID:-//Sheryl Faye - ECPv6.15.20//NONSGML v1.0//EN
CALSCALE:GREGORIAN
METHOD:PUBLISH
X-WR-CALNAME:Sheryl Faye
X-ORIGINAL-URL:https://sherylfaye.com
X-WR-CALDESC:Events for Sheryl Faye
REFRESH-INTERVAL;VALUE=DURATION:PT1H
X-Robots-Tag:noindex
X-PUBLISHED-TTL:PT1H
BEGIN:VTIMEZONE
TZID:America/New_York
BEGIN:DAYLIGHT
TZOFFSETFROM:-0500
TZOFFSETTO:-0400
TZNAME:EDT
DTSTART:20240310T070000
END:DAYLIGHT
BEGIN:STANDARD
TZOFFSETFROM:-0400
TZOFFSETTO:-0500
TZNAME:EST
DTSTART:20241103T060000
END:STANDARD
BEGIN:DAYLIGHT
TZOFFSETFROM:-0500
TZOFFSETTO:-0400
TZNAME:EDT
DTSTART:20250309T070000
END:DAYLIGHT
BEGIN:STANDARD
TZOFFSETFROM:-0400
TZOFFSETTO:-0500
TZNAME:EST
DTSTART:20251102T060000
END:STANDARD
BEGIN:DAYLIGHT
TZOFFSETFROM:-0500
TZOFFSETTO:-0400
TZNAME:EDT
DTSTART:20260308T070000
END:DAYLIGHT
BEGIN:STANDARD
TZOFFSETFROM:-0400
TZOFFSETTO:-0500
TZNAME:EST
DTSTART:20261101T060000
END:STANDARD
END:VTIMEZONE
BEGIN:VEVENT
DTSTART;TZID=America/New_York:20250930T080000
DTEND;TZID=America/New_York:20250930T170000
DTSTAMP:20260421T173914
CREATED:20250930T125449Z
LAST-MODIFIED:20250930T125449Z
UID:3834-1759219200-1759251600@sherylfaye.com
SUMMARY:Ruth Bader Ginsburg is coming to The Cape Coral Library FL
DESCRIPTION:Come see “I Dissent” This is a hugely popular show\, not political. Do not miss it!\nEvent: Ruth Bader Ginsburg Portrayal 11 a.m. Friday\, January 9 \nCape Coral Lee County Public Library\, 921 SW 39th Terrace\, Cape Coral\, FL 33914 \nPlease contact the library to see when you can register for this event (239) 533-4500
URL:https://sherylfaye.com/event/ruth-bader-ginsburg-is-coming-to-the-cape-coral-library-fl/
END:VEVENT
BEGIN:VEVENT
DTSTART;TZID=America/New_York:20250920T190000
DTEND;TZID=America/New_York:20250920T200000
DTSTAMP:20260421T173914
CREATED:20250903T104610Z
LAST-MODIFIED:20250903T104610Z
UID:3804-1758394800-1758398400@sherylfaye.com
SUMMARY:Susan B Anthony is coming to Hadley MA
DESCRIPTION:Come see “Failure is Impossible” the one-woman show about Susan B Anthony. \nAt The First Congregational Church of Hadley\, 102 Middle St\, Hadley\, MA 01035 \nSaturday September 20th at 7pm. Tickets are $20.00 proceeds help the Steeple Project
URL:https://sherylfaye.com/event/susan-b-anthony-is-coming-to-hadley-ma/
CATEGORIES:Susan B. Anthony
END:VEVENT
BEGIN:VEVENT
DTSTART;TZID=America/New_York:20250920T130000
DTEND;TZID=America/New_York:20250920T140000
DTSTAMP:20260421T173914
CREATED:20250131T003549Z
LAST-MODIFIED:20250131T003658Z
UID:3664-1758373200-1758376800@sherylfaye.com
SUMMARY:Eleanor Roosevelt is coming to The Woodbury Senior Community Center\, CT
DESCRIPTION:This performance is being held at The Community Center:\n281 Main St S\, Woodbury\, CT 06798 \nPlease register here: Registration
URL:https://sherylfaye.com/event/eleanor-roosevelt-is-coming-to-the-woodbury-senior-community-center-ct/
CATEGORIES:Eleanor Roosevelt
END:VEVENT
BEGIN:VEVENT
DTSTART;TZID=America/New_York:20250915T140000
DTEND;TZID=America/New_York:20250915T150000
DTSTAMP:20260421T173914
CREATED:20250825T144958Z
LAST-MODIFIED:20250825T145026Z
UID:3794-1757944800-1757948400@sherylfaye.com
SUMMARY:Eleanor Roosevelt is coming to the Dover MA Council on Aging
DESCRIPTION:Monday\, September 15 at 2:00-3:00pm\nEleanor Roosevelt is coming to the Dover Council on Aging during the Grand Opening Week of the new Caryl Community Center!\n\nCommunity Room\, Caryl Community Center\n4 Springdale Ave\, Dover\n\nPlease register by emailing coa@doverma.gov
URL:https://sherylfaye.com/event/eleanor-roosevelt-is-coming-to-the-dover-council-on-aging-3/
CATEGORIES:Eleanor Roosevelt
END:VEVENT
BEGIN:VEVENT
DTSTART;TZID=America/New_York:20250914T140000
DTEND;TZID=America/New_York:20250914T150000
DTSTAMP:20260421T173914
CREATED:20250903T105244Z
LAST-MODIFIED:20250903T105429Z
UID:3807-1757858400-1757862000@sherylfaye.com
SUMMARY:Helen Keller is coming to South Yarmouth MA
DESCRIPTION:This event is OPEN to everyone \nin the parish! 5 Barbara St\, South Yarmouth\, MA 02664 \nSeptember 14th 2:00PM at the PLC \nOn September 14th\, Sheryl Faye will present a one-woman show about Helen Keller”. This live entertaining and educational historical performance will show you the profound positive impact Helen Keller has made in history. Refreshments will be served. Free will offering will be accepted. \nALL ARE WELCOME!
URL:https://sherylfaye.com/event/helen-keller-is-coming-to-south-yarmouth-ma/
CATEGORIES:Helen Keller
END:VEVENT
END:VCALENDAR